BEGIN:VCALENDAR
VERSION:2.0
PRODID:-//ChamberMaster//Event Calendar 2.0//EN
METHOD:PUBLISH
X-PUBLISHED-TTL:P1H
REFRESH-INTERVAL:P1H
CALSCALE:GREGORIAN
BEGIN:VTIMEZONE
TZID:America/New_York
BEGIN:DAYLIGHT
RRULE:FREQ=YEARLY;BYMONTH=3;BYDAY=2SU
DTSTART:20070101T000000
TZOFFSETFROM:-0500
TZOFFSETTO:-0400
TZNAME:Eastern Daylight Time
END:DAYLIGHT
BEGIN:STANDARD
RRULE:FREQ=YEARLY;BYMONTH=11;BYDAY=1SU
DTSTART:20070101T000000
TZOFFSETFROM:-0400
TZOFFSETTO:-0500
TZNAME:Eastern Standard Time
END:STANDARD
END:VTIMEZONE
BEGIN:VEVENT
DTSTART;TZID=America/New_York:20260501T083000
DTEND;TZID=America/New_York:20260501T120000
X-MICROSOFT-CDO-ALLDAYEVENT:FALSE
SUMMARY:MSAR Facility Refresh Day
DESCRIPTION:Volunteers Needed: Join the Community Services Committee for a day of service to MSAR\, where we volunteer our time to complete maintenance and cleaning tasks at our Adamson Parkway Facility in Morrow. MSAR will provide all cleaning supplies and utensils necessary to complete all tasks. Wear work clothes!Click Here to Sign Up!
X-ALT-DESC;FMTTYPE=text/html:<!DOCTYPE html><html><head><title></title></head><body aria-disabled="false"><p>Volunteers Needed: Join the Community Services Committee for a day of service to MSAR\, where we volunteer our time to complete maintenance and cleaning tasks at our Adamson Parkway Facility in Morrow. MSAR will provide all cleaning supplies and utensils necessary to complete all tasks. Wear work clothes!</p><p>Click Here to Sign Up!</p></body></html>
LOCATION:1671 Adamson Parkway Suite 100 Morrow GA 30260
UID:e.3404.1448311
SEQUENCE:3
DTSTAMP:20260425T022151Z
URL:https://metrosouthassociationofrealtors.growthzoneapp.com/eventcalendarclass/Details/msar-facility-refresh-day-1715311?sourceTypeId=Hub
END:VEVENT
END:VCALENDAR
